BEGIN:VCALENDAR
VERSION:2.0
PRODID:-//hacksw/handcal//NONSGML v1.0//EN
CALSCALE:GREGORIAN
BEGIN:VEVENT
ORGANIZER;CN=Luckin Coffee Inc.:MAILTO:no-reply@gcs-web.com
DTEND:
UID:e97d2c02-f185-46b0-95df-a3bcb0ddd225
DTSTAMP:1777044941
LOCATION:https://event.choruscall.com/mediaframe/webcast.html?webcastid=cnuyZhHC
DESCRIPTION:Event Details https://investor.lkcoffee.com/events/event-details/luckin-coffee-first-quarter-2026-earnings-conference-call\n\nWebcast: https://event.choruscall.com/mediaframe/webcast.html?webcastid=cnuyZhHC
URL;VALUE=URI:https://event.choruscall.com/mediaframe/webcast.html?webcastid=cnuyZhHC
SUMMARY:Luckin Coffee Inc. - Luckin Coffee First Quarter 2026 Earnings Conference Call
DTSTART:20260429T120000Z
END:VEVENT
END:VCALENDAR